BEGIN:VCALENDAR
VERSION:2.0
PRODID:-//eventon.com NONSGML v1.0//EN
CALSCALE:GREGORIAN
METHOD:PUBLISH
BEGIN:VEVENT
UID:69e739cde05f3
DTSTAMP:20260421T084813Z
DTSTART:20260420T100000Z
DTEND:20260420T170000Z
LOCATION:
SUMMARY:SUPER ACADEMY PIANOFORTE
DESCRIPTION:LUNEDÌ 20 APRILE – SUPER ACADEMY PIANOFORTE Il maestro in re
 sidenza Simone Pedroni continua nel percorso di specializzazione pianistica
 . &nbsp;\nhttps://consno.it/events/super-academy-pianoforte-7/
URL:https://consno.it/events/super-academy-pianoforte-7/
END:VEVENT
END:VCALENDAR