BEGIN:VCALENDAR
VERSION:2.0
PRODID:-//eventon.com NONSGML v1.0//EN
CALSCALE:GREGORIAN
METHOD:PUBLISH
BEGIN:VEVENT
UID:69e6353567468
DTSTAMP:20260420T141621Z
DTSTART:20260415T100000Z
DTEND:20260416T180000Z
LOCATION:
SUMMARY:ALT(R)I PERCORSI - MASTERCLASS CONTRABBASSO
DESCRIPTION:MERCOLEDÃŒ-GIOVEDÃŒ 15-16 APRILE â€“ ORE 10-13/15-18 â€“ ALT(R)
 I PERCORSI: MASTERCLASS CONTRABBASSO GIUSEPPE ETTORRE Primo contrabbasso so
 lista dal 1991 dellâ€™Orchestra e della Filarmonica della Scala\,  in cui Ã
 ¨ entrato nel 1987 sotto la direzione musicale di Riccardo Muti\,  Giuseppe
  Ettorre svolge anche una intensa attivitÃ  cameristica e concertistica. Na
 to a Ravenna[..]\nhttps://consno.it/events/altri-percorsi-masterclass-contr
 abbasso/
URL:https://consno.it/events/altri-percorsi-masterclass-contrabbasso/
END:VEVENT
END:VCALENDAR